BEGIN:VCALENDAR
VERSION:2.0
PRODID:-//wp-events-plugin.com//7.2.3.1//EN
BEGIN:VEVENT
UID:1@bibf.ac.bw
DTSTART;TZID=Africa/Gaborone:20260415T083000
DTEND;TZID=Africa/Gaborone:20260415T130000
DTSTAMP:20260227T100523Z
URL:https://bibf.ac.bw/events/masterclass-the-ai-compliance-trade-off/
SUMMARY:Masterclass: The AI Compliance Trade-Off
DESCRIPTION:Navigating Risk\, Reward and Crafting the road ahead to enhance
  customer experience in African financial services.
ATTACH;FMTTYPE=image/jpeg:https://bibf.ac.bw/start/wp-content/uploads/2026
 /02/AI-Masterclass-Final.jpg
CATEGORIES:Masterclass
END:VEVENT
BEGIN:VTIMEZONE
TZID:Africa/Gaborone
X-LIC-LOCATION:Africa/Gaborone
BEGIN:STANDARD
DTSTART:20250415T083000
TZOFFSETFROM:+0200
TZOFFSETTO:+0200
TZNAME:CAT
END:STANDARD
END:VTIMEZONE
END:VCALENDAR